BEGIN:VCALENDAR
VERSION:2.0
PRODID:-//Senator Amanda Cappelletti - ECPv6.15.20//NONSGML v1.0//EN
CALSCALE:GREGORIAN
METHOD:PUBLISH
X-ORIGINAL-URL:https://pasenatorcappelletti.com
X-WR-CALDESC:Events for Senator Amanda Cappelletti
REFRESH-INTERVAL;VALUE=DURATION:PT1H
X-Robots-Tag:noindex
X-PUBLISHED-TTL:PT1H
BEGIN:VTIMEZONE
TZID:America/New_York
BEGIN:DAYLIGHT
TZOFFSETFROM:-0500
TZOFFSETTO:-0400
TZNAME:EDT
DTSTART:20230312T070000
END:DAYLIGHT
BEGIN:STANDARD
TZOFFSETFROM:-0400
TZOFFSETTO:-0500
TZNAME:EST
DTSTART:20231105T060000
END:STANDARD
BEGIN:DAYLIGHT
TZOFFSETFROM:-0500
TZOFFSETTO:-0400
TZNAME:EDT
DTSTART:20240310T070000
END:DAYLIGHT
BEGIN:STANDARD
TZOFFSETFROM:-0400
TZOFFSETTO:-0500
TZNAME:EST
DTSTART:20241103T060000
END:STANDARD
BEGIN:DAYLIGHT
TZOFFSETFROM:-0500
TZOFFSETTO:-0400
TZNAME:EDT
DTSTART:20250309T070000
END:DAYLIGHT
BEGIN:STANDARD
TZOFFSETFROM:-0400
TZOFFSETTO:-0500
TZNAME:EST
DTSTART:20251102T060000
END:STANDARD
END:VTIMEZONE
BEGIN:VEVENT
DTSTART;TZID=America/New_York:20240925T110000
DTEND;TZID=America/New_York:20240925T130000
DTSTAMP:20260425T101331
CREATED:20240828T140552Z
LAST-MODIFIED:20240923T153240Z
UID:10000056-1727262000-1727269200@pasenatorcappelletti.com
SUMMARY:Policy Hearing: Mail-In & Absentee Ballot Access
DESCRIPTION:On September 25th Senator Katie Muth\, Chair of the Pennsylvania Senate Democratic Policy Committee\, along with Senator Amanda Cappelletti and Senator Judy Schwank\, will hold a hearing on mail-in and absentee ballot access. The hearing will focus on differences counties have in their elections processes and communication with voters\, along with ways the Commonwealth can get involved to improve the process. \nThis hearing will be at the Capitol Building\, Room B-31 MC with a virtual option. \nRegister in advance for this meeting: https://us02web.zoom.us/meeting/register/tZArdOqgpzktGdKzU6kXtFFJ6BDq0jWX8ICI
URL:https://pasenatorcappelletti.com/event/policy-hearing-mail-in-absentee-ballot-access/
LOCATION:Pennsylvania State Capitol\, 501 N 3rd Street\, Harrisburg\, 17120\, United States
ATTACH;FMTTYPE=image/jpeg:https://pasenatorcappelletti.com/wp-content/uploads/2024/08/2024_PolicyHearings_MailIn_Absentee_Ballot2-revised.jpg
END:VEVENT
END:VCALENDAR