BEGIN:VCALENDAR
VERSION:2.0
PRODID:-//Senator Amanda Cappelletti - ECPv6.15.20//NONSGML v1.0//EN
CALSCALE:GREGORIAN
METHOD:PUBLISH
X-ORIGINAL-URL:https://pasenatorcappelletti.com
X-WR-CALDESC:Events for Senator Amanda Cappelletti
REFRESH-INTERVAL;VALUE=DURATION:PT1H
X-Robots-Tag:noindex
X-PUBLISHED-TTL:PT1H
BEGIN:VTIMEZONE
TZID:America/New_York
BEGIN:DAYLIGHT
TZOFFSETFROM:-0500
TZOFFSETTO:-0400
TZNAME:EDT
DTSTART:20230312T070000
END:DAYLIGHT
BEGIN:STANDARD
TZOFFSETFROM:-0400
TZOFFSETTO:-0500
TZNAME:EST
DTSTART:20231105T060000
END:STANDARD
BEGIN:DAYLIGHT
TZOFFSETFROM:-0500
TZOFFSETTO:-0400
TZNAME:EDT
DTSTART:20240310T070000
END:DAYLIGHT
BEGIN:STANDARD
TZOFFSETFROM:-0400
TZOFFSETTO:-0500
TZNAME:EST
DTSTART:20241103T060000
END:STANDARD
BEGIN:DAYLIGHT
TZOFFSETFROM:-0500
TZOFFSETTO:-0400
TZNAME:EDT
DTSTART:20250309T070000
END:DAYLIGHT
BEGIN:STANDARD
TZOFFSETFROM:-0400
TZOFFSETTO:-0500
TZNAME:EST
DTSTART:20251102T060000
END:STANDARD
END:VTIMEZONE
BEGIN:VEVENT
DTSTART;TZID=America/New_York:20241212T170000
DTEND;TZID=America/New_York:20241212T190000
DTSTAMP:20260421T112222
CREATED:20230907T202642Z
LAST-MODIFIED:20241114T184342Z
UID:10000043-1734022800-1734030000@pasenatorcappelletti.com
SUMMARY:Expungement Clinic
DESCRIPTION:Join us on December 12\, from 5 to 7pm at 100 Conway Ave for an expungement clinic. Registration is required for this event! Please register using the form below. \nRegister\n\n\n\n\n2024 Expungement Clinic\n\n\n\n\n\n\n\n\nRegistration Information\n\n\n\n    Name\n        *\n    \n    \n	\n		Name	\n\n	\n					\n				\n					First				\n\n				First			\n						\n				\n					Last				\n\n				Last			\n				\n\n\n    \n    \n\n\n    Address\n        \n    \n    \n    \n    \n\n\n    Address 2\n        \n    \n    \n    \n    \n\n\n    City\n        \n    \n    \n    \n    \n\n\n    State\n        \n    \n    		\n		AlabamaAlaskaArizonaArkansasCaliforniaColoradoConnecticutDelawareDistrict of ColumbiaFloridaGeorgiaHawaiiIdahoIllinoisIndianaIowaKansasKentuckyLouisianaMaineMarylandMassachusettsMichiganMinnesotaMississippiMissouriMontanaNebraskaNevadaNew HampshireNew JerseyNew MexicoNew YorkNorth CarolinaNorth DakotaOhioOklahomaOregonPennsylvaniaRhode IslandSouth CarolinaSouth DakotaTennesseeTexasUtahVermontVirginiaWashingtonWest VirginiaWisconsinWyoming	\n	\n    \n    \n\n\n    Zip\n        \n    \n    \n    \n    \n\n\n    Email\n        *\n    \n    \n    \n    \n\n\n    Phone Number\n        \n    \n    \n    \n    \n\n\n	Select Appointment Time\n		*\n	\n	\n	\n	\n\n\n    How did you hear about this event? (Check all that apply)\n        \n    \n    					\n			 Postcard\n					\n			 Social Media\n					\n			 Email\n					\n			 Word of Mouth\n					\n			 Website\n					\n			 OtherOther\n\n    \n    \n\n\n\n	\n\n\n\n\n\n\n	\n			\n			\n				If you are human\, leave this field blank.
URL:https://pasenatorcappelletti.com/event/clinic/
LOCATION:Narberth Borough Hall\, 100 Conway Avenue\, Narberth\, 19072\, United States
ATTACH;FMTTYPE=image/jpeg:https://pasenatorcappelletti.com/wp-content/uploads/2023/09/Expungement-Clinic-Dec-2024.jpg
END:VEVENT
END:VCALENDAR